BEGIN:VCALENDAR
METHOD:PUBLISH
PRODID:-//Weblication CMS
VERSION:2.0
BEGIN:VEVENT
SUMMARY:Abschlussfeier aller AbsolventInnen
DTSTART:20260626T130000
DTEND:20260626T150000
DESCRIPTION:Bei dieser Feier werden alle Absolventinnen  und Absolventen der Jahrgänge 9, 10, 12 und 13 in der Aula gebührend gefeiert.
LOCATION:Sporthalle
UID:https://www.kant-schule-reinfeld.de/de/veranstaltungen/termine/Abschlussfeier-aller-AbsolventInnen.php?uid=82b72feee5e37338677216392cb4bb90
URL:https://www.kant-schule-reinfeld.de/de/veranstaltungen/termine/Abschlussfeier-aller-AbsolventInnen.php
END:VEVENT
END:VCALENDAR