BEGIN:VCALENDAR
METHOD:PUBLISH
PRODID:-//Weblication CMS
VERSION:2.0
BEGIN:VEVENT
SUMMARY:Berlinfahrt Jahrgang 11
DTSTART:20260520T000000
DTEND:20260522T235959
DESCRIPTION:Viel Spaß in der Hauptstadt!
LOCATION:
UID:https://www.kant-schule-reinfeld.de/de/veranstaltungen/termine/Berlinfahrt-Jg.-11.php?uid=dff21b0ee32d0e7afbdc899753bfe1ce
URL:https://www.kant-schule-reinfeld.de/de/veranstaltungen/termine/Berlinfahrt-Jg.-11.php
END:VEVENT
END:VCALENDAR