BEGIN:VCALENDAR
METHOD:PUBLISH
PRODID:-//Weblication CMS
VERSION:2.0
BEGIN:VEVENT
SUMMARY:Bundesjugendspiele
DTSTART:20260702T080000
DTEND:20260702T120000
DESCRIPTION:Heute finden die Bundesjugendspiele für die Jahrgänge 5-9 statt. Wir wünschen hervorragende Leistungen!
LOCATION:
UID:https://www.kant-schule-reinfeld.de/de/veranstaltungen/termine/Bundesjugendspiele.php?uid=f829615be4c0e8f359776e7ff094a3ef
URL:https://www.kant-schule-reinfeld.de/de/veranstaltungen/termine/Bundesjugendspiele.php
END:VEVENT
END:VCALENDAR