BEGIN:VCALENDAR
METHOD:PUBLISH
PRODID:-//Weblication CMS
VERSION:2.0
BEGIN:VEVENT
SUMMARY:Bunter Abend
DTSTART:20260528T190000
DTEND:20260528T210000
DESCRIPTION:Die SV organisiert wieder den Bunten Abend! Wenn ihr Beiträge habt, meldet euch bei der SV oder bei den Verbindungslehrern (Herr Rönicke/ Herr Jakobs).
LOCATION:
UID:https://www.kant-schule-reinfeld.de/de/veranstaltungen/termine/Bunter-Abend.php?uid=067eacc494cac70539614c50b41f57e8
URL:https://www.kant-schule-reinfeld.de/de/veranstaltungen/termine/Bunter-Abend.php
END:VEVENT
END:VCALENDAR