BEGIN:VCALENDAR
METHOD:PUBLISH
PRODID:-//Weblication CMS
VERSION:2.0
BEGIN:VEVENT
SUMMARY:ESA Deutsch / MSA Mathematik
DTSTART:20260505T080000
DTEND:20260505T120000
DESCRIPTION:
LOCATION:
UID:https://www.kant-schule-reinfeld.de/de/veranstaltungen/termine/ESA-Deutsch-MSA-Mathematik.php?uid=562c530148cdeaee6f318715e0df15b3
URL:https://www.kant-schule-reinfeld.de/de/veranstaltungen/termine/ESA-Deutsch-MSA-Mathematik.php
END:VEVENT
END:VCALENDAR