BEGIN:VCALENDAR
METHOD:PUBLISH
PRODID:-//Weblication CMS
VERSION:2.0
BEGIN:VEVENT
SUMMARY:ESA Mathematik / MSA Englisch
DTSTART:20260508T080000
DTEND:20260508T120000
DESCRIPTION:
LOCATION:
UID:https://www.kant-schule-reinfeld.de/de/veranstaltungen/termine/ESA-Mathematik-MSA-Englisch.php?uid=02d0102bbe46be108aa03e2d3bfb702e
URL:https://www.kant-schule-reinfeld.de/de/veranstaltungen/termine/ESA-Mathematik-MSA-Englisch.php
END:VEVENT
END:VCALENDAR