BEGIN:VCALENDAR
METHOD:PUBLISH
PRODID:-//Weblication CMS
VERSION:2.0
BEGIN:VEVENT
SUMMARY:Erster Ferientag Herbstferien
DTSTART:20241021T000000
DTEND:20241021T235959
DESCRIPTION:
LOCATION:
UID:https://www.kant-schule-reinfeld.de/de/veranstaltungen/termine/Erster-Ferientag.php?uid=08aacbe7787f99eb1be86c9ac631bbc7
URL:https://www.kant-schule-reinfeld.de/de/veranstaltungen/termine/Erster-Ferientag.php
END:VEVENT
END:VCALENDAR