BEGIN:VCALENDAR
METHOD:PUBLISH
PRODID:-//Weblication CMS
VERSION:2.0
BEGIN:VEVENT
SUMMARY:Fußballturnier Jg. 7
DTSTART:20260610T080000
DTEND:20260610T120000
DESCRIPTION:Der Jahrgang 7 kämpft draußen um den Titel der besten Fußballklasse!
LOCATION:
UID:https://www.kant-schule-reinfeld.de/de/veranstaltungen/termine/Fussballturnier-Jg-7.php?uid=bcd20257c998f1ffe930edc803dfb30e
URL:https://www.kant-schule-reinfeld.de/de/veranstaltungen/termine/Fussballturnier-Jg-7.php
END:VEVENT
END:VCALENDAR