BEGIN:VCALENDAR
METHOD:PUBLISH
PRODID:-//Weblication CMS
VERSION:2.0
BEGIN:VEVENT
SUMMARY:Herkunftssprachenprüfung ESA/MSA
DTSTART:20260414T080000
DTEND:20260414T090000
DESCRIPTION:Schülerinnen und Schüler, die Deutsch als Zweitsprache gelernt haben, werden heute in ihrer Herkunftssprache geprüft.
LOCATION:
UID:https://www.kant-schule-reinfeld.de/de/veranstaltungen/termine/Herkunftssprachpruefung-ESA-MSA.php?uid=5bad5112be1902a0d364ae74f9a89d62
URL:https://www.kant-schule-reinfeld.de/de/veranstaltungen/termine/Herkunftssprachpruefung-ESA-MSA.php
END:VEVENT
END:VCALENDAR