BEGIN:VCALENDAR
METHOD:PUBLISH
PRODID:-//Weblication CMS
VERSION:2.0
BEGIN:VEVENT
SUMMARY:Himmelfahrtswoche frei
DTSTART:20260511T000000
DTEND:20260515T235959
DESCRIPTION:Dieses Jahr liegen die beweglichen Ferientag so, dass die komplette Woche vom 11.-15. Mai frei ist.
LOCATION:
UID:https://www.kant-schule-reinfeld.de/de/veranstaltungen/termine/Himmelfahrt.php?uid=2a1b9d6165d582f21b148a17b8037d37
URL:https://www.kant-schule-reinfeld.de/de/veranstaltungen/termine/Himmelfahrt.php
END:VEVENT
END:VCALENDAR