BEGIN:VCALENDAR
METHOD:PUBLISH
PRODID:-//Weblication CMS
VERSION:2.0
BEGIN:VEVENT
SUMMARY:LEG-Nachmittag
DTSTART:20260203T140000
DTEND:20260203T180000
DESCRIPTION:Auch heute Nachmittag können Lernentwicklungsgespräche stattfinden.
LOCATION:
UID:https://www.kant-schule-reinfeld.de/de/veranstaltungen/termine/LEG-Nachmittag.php?uid=4bc7b160b56ef5d71c92f6e16e1409a2
URL:https://www.kant-schule-reinfeld.de/de/veranstaltungen/termine/LEG-Nachmittag.php
END:VEVENT
END:VCALENDAR