BEGIN:VCALENDAR
METHOD:PUBLISH
PRODID:-//Weblication CMS
VERSION:2.0
BEGIN:VEVENT
SUMMARY:Maifeiertag
DTSTART:20260501T000000
DTEND:20260501T235959
DESCRIPTION:
LOCATION:
UID:https://www.kant-schule-reinfeld.de/de/veranstaltungen/termine/Maifeiertag.php?uid=62139be89fd39e65433cdca604b537b9
URL:https://www.kant-schule-reinfeld.de/de/veranstaltungen/termine/Maifeiertag.php
END:VEVENT
END:VCALENDAR