BEGIN:VCALENDAR
METHOD:PUBLISH
PRODID:-//Weblication CMS
VERSION:2.0
BEGIN:VEVENT
SUMMARY:Mündliche Abiturprüfungen
DTSTART:20260615T000000
DTEND:20260616T235959
DESCRIPTION:Unterrichtsfrei für alle anderen Jahrgänge.
LOCATION:
UID:https://www.kant-schule-reinfeld.de/de/veranstaltungen/termine/Muendliche-Abiturpruefungen.php?uid=ac0a3b91650bc01a85ef38929e51673c
URL:https://www.kant-schule-reinfeld.de/de/veranstaltungen/termine/Muendliche-Abiturpruefungen.php
END:VEVENT
END:VCALENDAR