BEGIN:VCALENDAR
METHOD:PUBLISH
PRODID:-//Weblication CMS
VERSION:2.0
BEGIN:VEVENT
SUMMARY:Notenbekanntgabe schriftliche Abiturprüfungen
DTSTART:20260605T120000
DTEND:20260605T130000
DESCRIPTION:
LOCATION:
UID:https://www.kant-schule-reinfeld.de/de/veranstaltungen/termine/Notenbekanntgabe.php?uid=ae97adf1a4ca49c28a3d8763fe4761fe
URL:https://www.kant-schule-reinfeld.de/de/veranstaltungen/termine/Notenbekanntgabe.php
END:VEVENT
END:VCALENDAR