BEGIN:VCALENDAR
METHOD:PUBLISH
PRODID:-//Weblication CMS
VERSION:2.0
BEGIN:VEVENT
SUMMARY:Praktikum im Jg. 8 und 11
DTSTART:20260316T000000
DTEND:20260325T235959
DESCRIPTION:Die Schülerinnen und Schüler des achten und des elften Jahrgangs nehmen zwei Wochen lang im Rahmen der Berufsorientierung ein Praktikum in einem Betrieb wahr.
LOCATION:
UID:https://www.kant-schule-reinfeld.de/de/veranstaltungen/termine/Praktikum-im-Jg-8.php?uid=a476cb965823f3619f477ae7b8468c57
URL:https://www.kant-schule-reinfeld.de/de/veranstaltungen/termine/Praktikum-im-Jg-8.php
END:VEVENT
END:VCALENDAR