BEGIN:VCALENDAR
METHOD:PUBLISH
PRODID:-//Weblication CMS
VERSION:2.0
BEGIN:VEVENT
SUMMARY:Projektpräsentationsprüfungen
DTSTART:20260223T000000
DTEND:20260225T235959
DESCRIPTION:An diesen drei Tagen finden die Projektpräsentationsprüfungen für Jahrgang 9 (und einige Schülerinnen und Schüler aus Jahrgang 10) statt.
LOCATION:
UID:https://www.kant-schule-reinfeld.de/de/veranstaltungen/termine/Projektpraesentationspruefungen.php?uid=5405c96a364f50e05d79811b6a9e1346
URL:https://www.kant-schule-reinfeld.de/de/veranstaltungen/termine/Projektpraesentationspruefungen.php
END:VEVENT
END:VCALENDAR