BEGIN:VCALENDAR
METHOD:PUBLISH
PRODID:-//Weblication CMS
VERSION:2.0
BEGIN:VEVENT
SUMMARY:Schriftliche Abiturprüfung Mathe
DTSTART:20260506T080000
DTEND:20260506T133000
DESCRIPTION:
LOCATION:
UID:https://www.kant-schule-reinfeld.de/de/veranstaltungen/termine/Schriftliche-Abiturpruefung-Mathe.php?uid=a683ef998acf381e3a078b655d20c0f8
URL:https://www.kant-schule-reinfeld.de/de/veranstaltungen/termine/Schriftliche-Abiturpruefung-Mathe.php
END:VEVENT
END:VCALENDAR