BEGIN:VCALENDAR
METHOD:PUBLISH
PRODID:-//Weblication CMS
VERSION:2.0
BEGIN:VEVENT
SUMMARY:Schriftliche Abiturprüfung Profilfach (ohne Bio)
DTSTART:20260324T080000
DTEND:20260324T133000
DESCRIPTION:
LOCATION:
UID:https://www.kant-schule-reinfeld.de/de/veranstaltungen/termine/Schriftliche-Abiturpruefung-Profilfach.php?uid=4cc76257df2d8a95ae0dd0433e00cb43
URL:https://www.kant-schule-reinfeld.de/de/veranstaltungen/termine/Schriftliche-Abiturpruefung-Profilfach.php
END:VEVENT
END:VCALENDAR