BEGIN:VCALENDAR
METHOD:PUBLISH
PRODID:-//Weblication CMS
VERSION:2.0
BEGIN:VEVENT
SUMMARY:Schülerprojekttage
DTSTART:20260622T000000
DTEND:20260626T235959
DESCRIPTION:In dieser Woche finden unsere Schülerprojekttage statt, während viele Jahrgänge auf Klassenfahrten sind. Jede/r an der Schule kann ein eigenes Projekt anbieten. Sei dabei!
LOCATION:
UID:https://www.kant-schule-reinfeld.de/de/veranstaltungen/termine/Schuelerprojekttage.php?uid=6bb3380ac189b036a2100b6850e7a48c
URL:https://www.kant-schule-reinfeld.de/de/veranstaltungen/termine/Schuelerprojekttage.php
END:VEVENT
END:VCALENDAR