BEGIN:VCALENDAR
METHOD:PUBLISH
PRODID:-//Weblication CMS
VERSION:2.0
BEGIN:VEVENT
SUMMARY:Spanienaustausch: Unsere Schülerinnen und Schüler in Spanien
DTSTART:20250316T080000
DTEND:20250322T175959
DESCRIPTION:Wir besuchen Mataró in der Nähe von Barcelona im Rahmen des Austauschs über Erasmus+.
LOCATION:
UID:https://www.kant-schule-reinfeld.de/de/veranstaltungen/termine/Spanienaustausch-Unsere-Schuelerinnen-und-Schueler-in-Spanien.php?uid=2f266953585ff52fd80808077eed36fe
URL:https://www.kant-schule-reinfeld.de/de/veranstaltungen/termine/Spanienaustausch-Unsere-Schuelerinnen-und-Schueler-in-Spanien.php
END:VEVENT
END:VCALENDAR