BEGIN:VCALENDAR
METHOD:PUBLISH
PRODID:-//Weblication CMS
VERSION:2.0
BEGIN:VEVENT
SUMMARY:Spanienaustausch: Spanier in Reinfeld
DTSTART:20250209T080000
DTEND:20250215T180000
DESCRIPTION:Die Schülerinnen und Schüler aus der Nähe von Barcelona besuchen uns im Rahmen von Erasmus+.
LOCATION:
UID:https://www.kant-schule-reinfeld.de/de/veranstaltungen/termine/Spanienaustausch.php?uid=0d5ffdb3653c141d95dcea7e0e200534
URL:https://www.kant-schule-reinfeld.de/de/veranstaltungen/termine/Spanienaustausch.php
END:VEVENT
END:VCALENDAR