BEGIN:VCALENDAR
METHOD:PUBLISH
PRODID:-//Weblication CMS
VERSION:2.0
BEGIN:VEVENT
SUMMARY:Sportabzeichen Jg. 5-6
DTSTART:20260520T080000
DTEND:20260520T120000
DESCRIPTION:An diesem Tag können die Schülerinnen und Schüler des 5. und 6. Jahrgangs das Deutsche Sportabzeichen erreichen.
LOCATION:
UID:https://www.kant-schule-reinfeld.de/de/veranstaltungen/termine/Sportabzeichen-Jg-5-6.php?uid=2763d2bff1e17de8161125a72c972276
URL:https://www.kant-schule-reinfeld.de/de/veranstaltungen/termine/Sportabzeichen-Jg-5-6.php
END:VEVENT
END:VCALENDAR