BEGIN:VCALENDAR
METHOD:PUBLISH
PRODID:-//Weblication CMS
VERSION:2.0
BEGIN:VEVENT
SUMMARY:VERA Deutsch Jg. 8
DTSTART:20250219T080000
DTEND:20250219T125959
DESCRIPTION:Heute werden die VERA-Vergleichsarbeiten im Fach Deutsch im Jahrgabng 8 durchgeführt.
LOCATION:
UID:https://www.kant-schule-reinfeld.de/de/veranstaltungen/termine/VERA-Deutsch-Jg-6-und-8.php?uid=68a94ce78b6e53f56c0c6a3c8418c6d8
URL:https://www.kant-schule-reinfeld.de/de/veranstaltungen/termine/VERA-Deutsch-Jg-6-und-8.php
END:VEVENT
END:VCALENDAR