BEGIN:VCALENDAR
METHOD:PUBLISH
PRODID:-//Weblication CMS
VERSION:2.0
BEGIN:VEVENT
SUMMARY:Volleyballturnier Jahrgänge 10-13
DTSTART:20260219T080000
DTEND:20260219T130000
DESCRIPTION:
LOCATION:
UID:https://www.kant-schule-reinfeld.de/de/veranstaltungen/termine/Volleyballturnier-Jahrgaenge-10-13.php?uid=78f07db2892266b1061d8158bd74d3f2
URL:https://www.kant-schule-reinfeld.de/de/veranstaltungen/termine/Volleyballturnier-Jahrgaenge-10-13.php
END:VEVENT
END:VCALENDAR