BEGIN:VCALENDAR
METHOD:PUBLISH
PRODID:-//Weblication CMS
VERSION:2.0
BEGIN:VEVENT
SUMMARY:Vorabitur: Sprechprüfung Englisch
DTSTART:20241126T080000
DTEND:20241127T140000
DESCRIPTION:
LOCATION:
UID:https://www.kant-schule-reinfeld.de/de/veranstaltungen/termine/Vorabitur-Sprechpruefung-Englisch.php?uid=1c509b99938811c6e15c90c783521ac7
URL:https://www.kant-schule-reinfeld.de/de/veranstaltungen/termine/Vorabitur-Sprechpruefung-Englisch.php
END:VEVENT
END:VCALENDAR