BEGIN:VCALENDAR
METHOD:PUBLISH
PRODID:-//Weblication CMS
VERSION:2.0
BEGIN:VEVENT
SUMMARY:Vorhabenwoche II
DTSTART:20260319T000000
DTEND:20260325T235959
DESCRIPTION:Die zweite Vorhabenwoche im Schuljahr, mit Projekten in jeder Klasse.
LOCATION:
UID:https://www.kant-schule-reinfeld.de/de/veranstaltungen/termine/Vorhabenwoche-II.php?uid=d57035b94a6876aab131deaffd984a4d
URL:https://www.kant-schule-reinfeld.de/de/veranstaltungen/termine/Vorhabenwoche-II.php
END:VEVENT
END:VCALENDAR